BEGIN:VCALENDAR
VERSION:2.0
PRODID:-//hacksw/handcal//NONSGML v1.0//EN
CALSCALE:GREGORIAN
BEGIN:VTIMEZONE
TZID:America/Kentucky/Louisville
BEGIN:DAYLIGHT
TZOFFSETFROM:-0600
TZNAME:MDT
TZOFFSETTO:-0600
END:DAYLIGHT
END:VTIMEZONE
DTSTAMP:20260419T102148Z
UID:69e4e4fca24c4
BEGIN:VEVENT
LOCATION:Crescent Hill, 2762 Frankfort Ave., Louisville, KY US 40206
DESCRIPTION:<p>Sponsored by the Friends of the Crescent Hill Library, a group discussion on many of today’s most urgent foreign policy issues. &nbsp;Space is limited. &nbsp;Call 574-1793 to register.</p>

DTSTART;TZID=America/Kentucky/Louisville:20240417T190000
DTEND;TZID=America/Kentucky/Louisville:20240417T200000
SUMMARY:Great Decisions 2024
URL;VALUE=URI:/events/series/2333
END:VEVENT
END:VCALENDAR