BEGIN:VCALENDAR
VERSION:2.0
PRODID:-//hacksw/handcal//NONSGML v1.0//EN
CALSCALE:GREGORIAN
BEGIN:VTIMEZONE
TZID:America/Kentucky/Louisville
BEGIN:DAYLIGHT
TZOFFSETFROM:-0600
TZNAME:MDT
TZOFFSETTO:-0600
END:DAYLIGHT
END:VTIMEZONE
DTSTAMP:20260420T092219Z
UID:69e6288b56348
BEGIN:VEVENT
DESCRIPTION:<p>Get help installing Libby App and mastering its various features. Registration is required to attend, please call 502-245-7332.</p>

DTSTART;TZID=America/Kentucky/Louisville:20240417T090000
DTEND;TZID=America/Kentucky/Louisville:20240417T100000
SUMMARY:Libby App Tutoring
URL;VALUE=URI:/events/series/2727
END:VEVENT
END:VCALENDAR