BEGIN:VCALENDAR
VERSION:2.0
PRODID:-//hacksw/handcal//NONSGML v1.0//EN
CALSCALE:GREGORIAN
BEGIN:VTIMEZONE
TZID:America/Kentucky/Louisville
BEGIN:DAYLIGHT
TZOFFSETFROM:-0600
TZNAME:MDT
TZOFFSETTO:-0600
END:DAYLIGHT
END:VTIMEZONE
DTSTAMP:20260419T095837Z
UID:69e4df8d815a7
BEGIN:VEVENT
LOCATION:Northeast Regional, 15 Bellevoir Circle, Louisville, KY US 40223
DESCRIPTION:<p>Foster a love of reading in your pre-school child through this engaging story time! Join us for books, songs, movement, and art activities that encourage the development of early learning skills. Ages 3-5</p>

DTSTART;TZID=America/Kentucky/Louisville:20240618T110000
DTEND;TZID=America/Kentucky/Louisville:20240618T114500
SUMMARY:Preschool Storytime
URL;VALUE=URI:/events/series/3441
END:VEVENT
END:VCALENDAR