BEGIN:VCALENDAR
VERSION:2.0
PRODID:-//hacksw/handcal//NONSGML v1.0//EN
CALSCALE:GREGORIAN
BEGIN:VTIMEZONE
TZID:America/Kentucky/Louisville
BEGIN:DAYLIGHT
TZOFFSETFROM:-0600
TZNAME:MDT
TZOFFSETTO:-0600
END:DAYLIGHT
END:VTIMEZONE
DTSTAMP:20260420T040000Z
UID:69e5dd00bf210
BEGIN:VEVENT
DESCRIPTION:<p>Storytime is an opportunity for families to bond over shared stories and songs, as well as engaging in creative activities that reinforce a lifelong love of learning. Ages 2-8<br />
&nbsp;</p>

DTSTART;TZID=America/Kentucky/Louisville:20240826T103000
DTEND;TZID=America/Kentucky/Louisville:20240826T113000
SUMMARY:Family Storytime
URL;VALUE=URI:/events/series/3944
END:VEVENT
END:VCALENDAR