BEGIN:VCALENDAR
VERSION:2.0
PRODID:-//hacksw/handcal//NONSGML v1.0//EN
CALSCALE:GREGORIAN
BEGIN:VTIMEZONE
TZID:America/Kentucky/Louisville
BEGIN:DAYLIGHT
TZOFFSETFROM:-0600
TZNAME:MDT
TZOFFSETTO:-0600
END:DAYLIGHT
END:VTIMEZONE
DTSTAMP:20260420T095439Z
UID:69e6301f13775
BEGIN:VEVENT
LOCATION:Main Library, 301 York Street, Louisville, KY US 40203
DESCRIPTION:<p>You're invited to the cutest event of the summer - Baby Prom!</p>

<p>Come dressed up in your best glam or favorite outfit, or come play dress up. Dance on our sensory floor, take prom photos, ride our baby "limos," and more! Limited dress-up supplies available.</p>

<p><br />
For children ages 6 months to 3 years and their caregivers. Pre-registration is encouraged, call (502) 574-1620.<br />
&nbsp;</p>

DTSTART;TZID=America/Kentucky/Louisville:20240713T093000
DTEND;TZID=America/Kentucky/Louisville:20240713T113000
SUMMARY:Baby Prom
URL;VALUE=URI:/events/series/3581
END:VEVENT
END:VCALENDAR