BEGIN:VCALENDAR
VERSION:2.0
PRODID:-//hacksw/handcal//NONSGML v1.0//EN
CALSCALE:GREGORIAN
BEGIN:VTIMEZONE
TZID:America/Kentucky/Louisville
BEGIN:DAYLIGHT
TZOFFSETFROM:-0600
TZNAME:MDT
TZOFFSETTO:-0600
END:DAYLIGHT
END:VTIMEZONE
DTSTAMP:20260420T064643Z
UID:69e60413cfb0e
BEGIN:VEVENT
LOCATION:South Central Regional, 7300 Jefferson Boulevard, Louisville, KY US 40219
DESCRIPTION:<p>Join COLLIDER Artist-in-Residence Jillian Timberlake for this Beautifully Broken Modern Kintsugi workshop as we explore society’s growing trend towards perfectionism and examine the benefits of Kintsugi’s countercultural approach to finding the beauty in the broken. In an age of photo filters, highlight reels, and obsession with youth and beauty, America’s consumeristic culture embraces an out-with-the-old / in-with-the-new mentality. Yet, Kintsugi values the history, and even the imperfection, of an item. This artform challenges the assumption that imperfection devalues and disqualifies. Kintsugi is boldly rebellious in its view that beauty can come from the broken.&nbsp;</p>

<p>During this workshop, you will walk through the Kintsugi process from start to finish as you break and repair a set of coasters. Guided writing will be incorporated throughout the process for you to reflect on the wisdom Kintsugi has to offer and ways to apply it to your own life. You will leave with a completed set of two coasters and a Beautifully Broken journal for continued reflection.</p>

<p>All materials will be provided.&nbsp;Please arrive on time, as it will take the full workshop time to complete the process.&nbsp;Participants&nbsp;will need to sign a participation waiver at the onset of the workshop.&nbsp;Adults only. Space is limited, email <a href="liz.magee@lfpl.org">Liz.Magee@lfpl.org</a> to sign up.</p>

<p><strong>**REGISTRATION IS FULL**</strong></p>

DTSTART;TZID=America/Kentucky/Louisville:20241022T180000
DTEND;TZID=America/Kentucky/Louisville:20241022T200000
SUMMARY:Beautifully Broken Modern Kintsugi workshop: Breaking Free From Perfectionism *CLASS FULL*
URL;VALUE=URI:/beautifully-broken-modern-kintsugi-workshop-breaking-free-perfectionism-class-full-0
END:VEVENT
END:VCALENDAR