BEGIN:VCALENDAR
VERSION:2.0
PRODID:-//hacksw/handcal//NONSGML v1.0//EN
CALSCALE:GREGORIAN
BEGIN:VTIMEZONE
TZID:America/Kentucky/Louisville
BEGIN:DAYLIGHT
TZOFFSETFROM:-0600
TZNAME:MDT
TZOFFSETTO:-0600
END:DAYLIGHT
END:VTIMEZONE
DTSTAMP:20260419T090114Z
UID:69e4d21a494ac
BEGIN:VEVENT
LOCATION:South Central Regional, 7300 Jefferson Boulevard, Louisville, KY US 40219
DESCRIPTION:<p>Join COLLIDER Artist-in-Residence Haley Banks for this program, an introductory workshop designed to teach the fundamental skills of crochet. Participants will learn essential techniques, including how to choose the right tools, create a slip knot, make a chain, crochet into the chain, and build length and height in their projects. The workshop project will focus on creating a small, practical bookmark, allowing participants to apply all the techniques learned in one simple project. The goal is to provide a strong foundation in crochet basics, encouraging continued practice and interest in the craft. As part of the COLLIDER program, studio office hours will be available throughout the month for any additional assistance or clarification. This workshop is ideal for those looking to start their crochet journey and develop a new creative skill. Space is limited. Ages 13-99.</p>

<p>**CLASS FULL. Registration is closed.**</p>

DTSTART;TZID=America/Kentucky/Louisville:20241207T110000
DTEND;TZID=America/Kentucky/Louisville:20241207T130000
SUMMARY:Introduction to Crochet **CLASS FULL**
URL;VALUE=URI:/introduction-crochet-0
END:VEVENT
END:VCALENDAR