BEGIN:VCALENDAR
VERSION:2.0
PRODID:-//hacksw/handcal//NONSGML v1.0//EN
CALSCALE:GREGORIAN
BEGIN:VTIMEZONE
TZID:America/Kentucky/Louisville
BEGIN:DAYLIGHT
TZOFFSETFROM:-0600
TZNAME:MDT
TZOFFSETTO:-0600
END:DAYLIGHT
END:VTIMEZONE
DTSTAMP:20260421T143523Z
UID:69e7c36b7c508
BEGIN:VEVENT
LOCATION:Saint Matthews, 3940 Grandview Ave., Louisville, KY US 40207
DESCRIPTION:<p>Drop by to check out some fantastic bargains in our wide selection of gently used books. All proceeds benefit the St. Matthews Friends of the Library. Cash only. Exact change is appreciated.<br />
&nbsp;</p>

DTSTART;TZID=America/Kentucky/Louisville:20241214T100000
DTEND;TZID=America/Kentucky/Louisville:20241214T163000
SUMMARY:St. Matthews Friends of the Library Book Sale
URL;VALUE=URI:/st-matthews-friends-library-book-sale-2
END:VEVENT
END:VCALENDAR