BEGIN:VCALENDAR
VERSION:2.0
PRODID:-//hacksw/handcal//NONSGML v1.0//EN
CALSCALE:GREGORIAN
BEGIN:VTIMEZONE
TZID:America/Kentucky/Louisville
BEGIN:DAYLIGHT
TZOFFSETFROM:-0600
TZNAME:MDT
TZOFFSETTO:-0600
END:DAYLIGHT
END:VTIMEZONE
DTSTAMP:20260423T114600Z
UID:69ea3eb880555
BEGIN:VEVENT
LOCATION:Main Library, 301 York Street, Louisville, KY US 40203
DESCRIPTION:<p>"Can you believe that really happened?" "I binged the whole season!" "The truth is stranger than fiction!"</p>

<p>From podcasts to docuseries, join this monthly discussion group for those who can't get enough of reading, watching, and listening to the latest true crime offerings. Share recommendations, banter about whodunit, and make friends with the macabre. For more information, contact <a href="kaira.tucker@lfpl.org">kaira.tucker@lfpl.org</a>.</p>

<p class="MsoNormal"><o:p></o:p></p>

DTSTART;TZID=America/Kentucky/Louisville:20250331T190000
DTEND;TZID=America/Kentucky/Louisville:20250331T200000
SUMMARY:True Crime Time
URL;VALUE=URI:/true-crime-time-0
END:VEVENT
END:VCALENDAR