BEGIN:VCALENDAR
VERSION:2.0
PRODID:-//hacksw/handcal//NONSGML v1.0//EN
CALSCALE:GREGORIAN
BEGIN:VTIMEZONE
TZID:America/Kentucky/Louisville
BEGIN:DAYLIGHT
TZOFFSETFROM:-0600
TZNAME:MDT
TZOFFSETTO:-0600
END:DAYLIGHT
END:VTIMEZONE
DTSTAMP:20260421T044929Z
UID:69e73a19425e0
BEGIN:VEVENT
LOCATION:Main Library, 301 York Street, Louisville, KY US 40203
DESCRIPTION:<p style="margin-bottom:13px"><span style="font-size:11pt"><span style="line-height:115%"><span style="font-family:Calibri,sans-serif"><span style="font-size:12.0pt"><span style="line-height:115%"><span style="font-family:&quot;Arial&quot;,sans-serif">You're invited to the Baby Prom-the cutest event of the spring! Come dressed up in your best glam or favorite outfit, or come play dress up. Come dance, play, take prom photos, ride our baby "limos," and more! Limited dress-up supplies available.</span></span></span></span></span></span></p>

<p style="margin-bottom:13px"><span style="font-size:11pt"><span style="line-height:115%"><span style="font-family:Calibri,sans-serif"><span style="font-size:12.0pt"><span style="line-height:115%"><span style="font-family:&quot;Arial&quot;,sans-serif">For children under 3 and their caregivers. Pre-registration is encouraged. Call 502-574-1620 to register.&nbsp;</span></span></span></span></span></span></p>

DTSTART;TZID=America/Kentucky/Louisville:20250419T100000
DTEND;TZID=America/Kentucky/Louisville:20250419T120000
SUMMARY:Baby Prom
URL;VALUE=URI:/baby-prom-0
END:VEVENT
END:VCALENDAR