BEGIN:VCALENDAR
VERSION:2.0
PRODID:-//hacksw/handcal//NONSGML v1.0//EN
CALSCALE:GREGORIAN
BEGIN:VTIMEZONE
TZID:America/Kentucky/Louisville
BEGIN:DAYLIGHT
TZOFFSETFROM:-0600
TZNAME:MDT
TZOFFSETTO:-0600
END:DAYLIGHT
END:VTIMEZONE
DTSTAMP:20260420T080921Z
UID:69e61771cd8dc
BEGIN:VEVENT
DESCRIPTION:<p class="MsoNormal">Enjoy teen space with the art cart and board games. Middle and high school students.<o:p></o:p></p>

DTSTART;TZID=America/Kentucky/Louisville:20250417T160000
DTEND;TZID=America/Kentucky/Louisville:20250417T170000
SUMMARY:Teen Lounge
URL;VALUE=URI:/teen-lounge-35
END:VEVENT
END:VCALENDAR