BEGIN:VCALENDAR
VERSION:2.0
PRODID:-//hacksw/handcal//NONSGML v1.0//EN
CALSCALE:GREGORIAN
BEGIN:VTIMEZONE
TZID:America/Kentucky/Louisville
BEGIN:DAYLIGHT
TZOFFSETFROM:-0600
TZNAME:MDT
TZOFFSETTO:-0600
END:DAYLIGHT
END:VTIMEZONE
DTSTAMP:20260419T093906Z
UID:69e4dafa5da52
BEGIN:VEVENT
LOCATION:South Central Regional, 7300 Jefferson Boulevard, Louisville, KY US 40219
DESCRIPTION:<p>Many Master Gardeners have years of experience in selecting and planting native plants in their flower gardens. &nbsp;Join us as we share with you a great selection of native plants that will help the environment while bringing lots of native insects and pollinators to your yard. Participants will take home seeds to sow in their own native plant garden.</p>

DTSTART;TZID=America/Kentucky/Louisville:20250315T110000
DTEND;TZID=America/Kentucky/Louisville:20250315T120000
SUMMARY:Selecting Native Plants for your Flower Garden 
URL;VALUE=URI:/selecting-native-plants-your-flower-garden-0
END:VEVENT
END:VCALENDAR