BEGIN:VCALENDAR
VERSION:2.0
PRODID:-//hacksw/handcal//NONSGML v1.0//EN
CALSCALE:GREGORIAN
BEGIN:VTIMEZONE
TZID:America/Kentucky/Louisville
BEGIN:DAYLIGHT
TZOFFSETFROM:-0600
TZNAME:MDT
TZOFFSETTO:-0600
END:DAYLIGHT
END:VTIMEZONE
DTSTAMP:20260420T085521Z
UID:69e6223942a7d
BEGIN:VEVENT
LOCATION:Crescent Hill, 2762 Frankfort Ave., Louisville, KY US 40206
DESCRIPTION:<p class="MsoNoSpacing"><span style="font-size:11pt"><span style="font-family:Calibri,sans-serif"><span style="font-family:&quot;Calibri Light&quot;,sans-serif">Foster a love of reading in your preschooler through this engaging storytime! Join us for books, songs, movement, and art activities that encourage the development of early learning skills.<b> </b>Ages 3-5</span></span></span></p>

DTSTART;TZID=America/Kentucky/Louisville:20250319T150000
DTEND;TZID=America/Kentucky/Louisville:20250319T154500
SUMMARY:Preschool Storytime
URL;VALUE=URI:/preschool-storytime-262
END:VEVENT
END:VCALENDAR