BEGIN:VCALENDAR
VERSION:2.0
PRODID:-//hacksw/handcal//NONSGML v1.0//EN
CALSCALE:GREGORIAN
BEGIN:VTIMEZONE
TZID:America/Kentucky/Louisville
BEGIN:DAYLIGHT
TZOFFSETFROM:-0600
TZNAME:MDT
TZOFFSETTO:-0600
END:DAYLIGHT
END:VTIMEZONE
DTSTAMP:20260423T132149Z
UID:69ea552dbad38
BEGIN:VEVENT
DESCRIPTION:<p>IRS-certified volunteers provide free tax counseling and preparation services to millions of low- and middle-income taxpayers, with special attention to those ages 60 and older. Bring the necessary tax forms, information and documentation, proof of your social security number, and a photo ID.</p>

DTSTART;TZID=America/Kentucky/Louisville:20250403T110000
DTEND;TZID=America/Kentucky/Louisville:20250403T150000
SUMMARY:AARP Tax Preparation
URL;VALUE=URI:/aarp-tax-preparation-19
END:VEVENT
END:VCALENDAR