BEGIN:VCALENDAR
VERSION:2.0
PRODID:-//hacksw/handcal//NONSGML v1.0//EN
CALSCALE:GREGORIAN
BEGIN:VTIMEZONE
TZID:America/Kentucky/Louisville
BEGIN:DAYLIGHT
TZOFFSETFROM:-0600
TZNAME:MDT
TZOFFSETTO:-0600
END:DAYLIGHT
END:VTIMEZONE
DTSTAMP:20260420T050557Z
UID:69e5ec75a1347
BEGIN:VEVENT
LOCATION:Parkland, 2743 Virginia Ave, Louisville, KY US 40211
DESCRIPTION:<p>Come work on your projects at the library! Bring your current work in progress to the library and share stories, tips, and tricks to your creative process. Bring your questions as well! Staff are there to help you learn how to make your creation excellent.&nbsp;<br />
Registration required.<br />
&nbsp;</p>

DTSTART;TZID=America/Kentucky/Louisville:20250417T140000
DTEND;TZID=America/Kentucky/Louisville:20250417T150000
SUMMARY:Cozy Crafting: Craft Cafe 
URL;VALUE=URI:/cozy-crafting-craft-cafe-6
END:VEVENT
END:VCALENDAR