BEGIN:VCALENDAR
VERSION:2.0
PRODID:-//hacksw/handcal//NONSGML v1.0//EN
CALSCALE:GREGORIAN
BEGIN:VTIMEZONE
TZID:America/Kentucky/Louisville
BEGIN:DAYLIGHT
TZOFFSETFROM:-0600
TZNAME:MDT
TZOFFSETTO:-0600
END:DAYLIGHT
END:VTIMEZONE
DTSTAMP:20260420T044657Z
UID:69e5e801ebad3
BEGIN:VEVENT
LOCATION:Parkland, 2743 Virginia Ave, Louisville, KY US 40211
DESCRIPTION:<p>This program has been canceled.&nbsp; We apologize for any inconvenience.</p>

DTSTART;TZID=America/Kentucky/Louisville:20250326T170000
DTEND;TZID=America/Kentucky/Louisville:20250326T180000
SUMMARY:Professional Writing: Professional Writing Explored through Resumes, CVs, and E-mails **CANCELED* *
URL;VALUE=URI:/professional-writing-professional-writing-explored-through-resumes-cvs-and-e-mails-0
END:VEVENT
END:VCALENDAR