BEGIN:VCALENDAR
VERSION:2.0
PRODID:-//hacksw/handcal//NONSGML v1.0//EN
CALSCALE:GREGORIAN
BEGIN:VTIMEZONE
TZID:America/Kentucky/Louisville
BEGIN:DAYLIGHT
TZOFFSETFROM:-0600
TZNAME:MDT
TZOFFSETTO:-0600
END:DAYLIGHT
END:VTIMEZONE
DTSTAMP:20260422T133519Z
UID:69e906d75da24
BEGIN:VEVENT
LOCATION:Main Library, 301 York Street, Louisville, KY US 40203
DESCRIPTION:<p>Patrons of all ages are invited to kick off this year's Summer Reading &amp; Cultural Pass programs with a day full of fun, family-friendly, hands-on activities at the Main Library on Saturday, May 31, from 10 a.m. to 1 p.m. Attendees can explore this year's Summer Reading theme, “The Great Summer Reading Caper," with mystery-themed stations, a scavenger hunt, and fun crafts. Plus meet Jasper the Rabbit from <em>Creepy Carrots</em> and enjoy special live performances from Louisville Leopards Percussionists and Ambo Dance Theatre. <em>(See the full list of participating partners below.)</em><br><br>The new Cultural Pass app will be available for download just in time for kids and teens to start their summer adventures and discover new experiences throughout Greater Louisville.<br><br>The Summer Reading &amp; Cultural Pass Kickoff is FREE and presented by the Library Foundation and Cultural Pass partners, including Fund for the Arts, Arts and Culture Alliance, and Metro Government.</p><p>Participating Cultural Pass partners will also include: 21c Museum Hotel, Actors Theatre of Louisville, Ambo Dance Theatre, Blackacre Conservancy (State Nature Preserve &amp; Historic Homestead), Conrad-Caldwell House Museum, Girl Scouts of Kentuckiana, Kentucky Science Center, Kentucky Shakespeare, KMAC &nbsp;Contemporary Art Museum, Looking for Lilith Theatre Company, Louisville Nature Center, Lovely-Allen Art, LLC, The Parklands of Floyds Fork, Roots-101 African American Museum, Speed Art Museum, Waterfront Botanical Gardens</p><p>This event will also feature:</p><ul><li>BioGlitz, 9 Muses Henna, Magician Tom Causey, Whet Your Palette Face Painting</li><li>Community Tabling: Louisville Metro Government’s Cultural Plan Team, Louisville Metro Government’s Office of Immigrant Affairs</li><li>Sweet Treat Vendors: Royal Couture Treats and Gimme Some Suga Cotton Candy</li><li>DJ/Emcee: ART xFM</li></ul>
DTSTART;TZID=America/Kentucky/Louisville:20250531T100000
DTEND;TZID=America/Kentucky/Louisville:20250531T130000
SUMMARY:Summer Reading & Cultural Pass Kickoff Event
URL;VALUE=URI:/summer-reading-kickoff-cultural-pass-showcase-0
END:VEVENT
END:VCALENDAR