BEGIN:VCALENDAR
VERSION:2.0
PRODID:-//hacksw/handcal//NONSGML v1.0//EN
CALSCALE:GREGORIAN
BEGIN:VTIMEZONE
TZID:America/Kentucky/Louisville
BEGIN:DAYLIGHT
TZOFFSETFROM:-0600
TZNAME:MDT
TZOFFSETTO:-0600
END:DAYLIGHT
END:VTIMEZONE
DTSTAMP:20260423T114600Z
UID:69ea3eb8cb11f
BEGIN:VEVENT
DESCRIPTION:<p>Take an inside look of our ambulance. Our team of EMS professionals will answer your questions about what it takes to respond to emergencies in our community! Learn hands-on only CPR in ten minutes from the American Heart Association. All Ages.</p>

DTSTART;TZID=America/Kentucky/Louisville:20250708T143000
DTEND;TZID=America/Kentucky/Louisville:20250708T153000
SUMMARY:AMR: A Global Medical Response Solution presents Touch-a-Truck!
URL;VALUE=URI:/amr-global-medical-response-solution-presents-touch-truck-12
END:VEVENT
END:VCALENDAR