BEGIN:VCALENDAR
VERSION:2.0
PRODID:-//hacksw/handcal//NONSGML v1.0//EN
CALSCALE:GREGORIAN
BEGIN:VTIMEZONE
TZID:America/Kentucky/Louisville
BEGIN:DAYLIGHT
TZOFFSETFROM:-0600
TZNAME:MDT
TZOFFSETTO:-0600
END:DAYLIGHT
END:VTIMEZONE
DTSTAMP:20260422T133520Z
UID:69e906d8a46e5
BEGIN:VEVENT
DESCRIPTION:<p>A noon-time celebration of the New Year for children and their caregivers with crafts, activities, and a countdown at noon! For ages 2-11.</p>
DTSTART;TZID=America/Kentucky/Louisville:20251231T110000
DTEND;TZID=America/Kentucky/Louisville:20251231T123000
SUMMARY:Noon Year's Eve Party
URL;VALUE=URI:/noon-years-eve-party-0
END:VEVENT
END:VCALENDAR