BEGIN:VCALENDAR
VERSION:2.0
PRODID:-//hacksw/handcal//NONSGML v1.0//EN
CALSCALE:GREGORIAN
BEGIN:VTIMEZONE
TZID:America/Kentucky/Louisville
BEGIN:DAYLIGHT
TZOFFSETFROM:-0600
TZNAME:MDT
TZOFFSETTO:-0600
END:DAYLIGHT
END:VTIMEZONE
DTSTAMP:20260421T074219Z
UID:69e7629b7c507
BEGIN:VEVENT
LOCATION:South Central Regional, 7300 Jefferson Boulevard, Louisville, KY US 40219
DESCRIPTION:<p>Join death doula Becky Robison and Amy Shea, author of the upcoming book, <em>Too Poor to Die: The Hidden Realities of Dying in the Margins</em>, for a special authors edition of our monthly death salon. We’ll discuss the costs of death, indigent burial, and caring for our unhoused neighbors. To register, contact <a href="mailto:kaira.tucker@lfpl.org">kaira.tucker@lfpl.org.</a></p>
DTSTART;TZID=America/Kentucky/Louisville:20251117T180000
DTEND;TZID=America/Kentucky/Louisville:20251117T190000
SUMMARY:Due Date: A Library Death Salon 
URL;VALUE=URI:/due-date-library-death-salon-12
END:VEVENT
END:VCALENDAR