BEGIN:VCALENDAR
VERSION:2.0
PRODID:-//hacksw/handcal//NONSGML v1.0//EN
CALSCALE:GREGORIAN
BEGIN:VTIMEZONE
TZID:America/Kentucky/Louisville
BEGIN:DAYLIGHT
TZOFFSETFROM:-0600
TZNAME:MDT
TZOFFSETTO:-0600
END:DAYLIGHT
END:VTIMEZONE
DTSTAMP:20260420T044713Z
UID:69e5e81195ccc
BEGIN:VEVENT
DESCRIPTION:<p><span style="color:black;">Jan 8 – Vision Boards</span><br><span style="color:black;">Feb 12 – Community Service Project</span><br><br><br>&nbsp;</p>
DTSTART;TZID=America/Kentucky/Louisville:20260212T133000
DTEND;TZID=America/Kentucky/Louisville:20260212T143000
SUMMARY:4H for Homeschoolers
URL;VALUE=URI:/4h-homeschoolers-37
END:VEVENT
END:VCALENDAR