BEGIN:VCALENDAR
VERSION:2.0
PRODID:-//hacksw/handcal//NONSGML v1.0//EN
CALSCALE:GREGORIAN
BEGIN:VTIMEZONE
TZID:America/Kentucky/Louisville
BEGIN:DAYLIGHT
TZOFFSETFROM:-0600
TZNAME:MDT
TZOFFSETTO:-0600
END:DAYLIGHT
END:VTIMEZONE
DTSTAMP:20260422T133520Z
UID:69e906d88db0f
BEGIN:VEVENT
DESCRIPTION:<p style="line-height:normal;margin-bottom:.0001pt;"><span>Enjoy a day of family play at Shawnee! Stretch your creativity with the One-Cup Challenge, build a Mega Figure, get active with our Box Build, or play Duplos with your little ones. There’s something fun for everyone!&nbsp;</span></p>
DTSTART;TZID=America/Kentucky/Louisville:20260103T110000
DTEND;TZID=America/Kentucky/Louisville:20260103T130000
SUMMARY:Family LEGO Party
URL;VALUE=URI:/family-lego-party-2
END:VEVENT
END:VCALENDAR