BEGIN:VCALENDAR
VERSION:2.0
PRODID:-//hacksw/handcal//NONSGML v1.0//EN
CALSCALE:GREGORIAN
BEGIN:VTIMEZONE
TZID:America/Kentucky/Louisville
BEGIN:DAYLIGHT
TZOFFSETFROM:-0600
TZNAME:MDT
TZOFFSETTO:-0600
END:DAYLIGHT
END:VTIMEZONE
DTSTAMP:20260420T050557Z
UID:69e5ec75a7913
BEGIN:VEVENT
DESCRIPTION:<p style="margin-bottom:.0001pt;"><span>Join the Friends of the Shawnee Library to learn more about how to support and advocate for the library.</span></p>
DTSTART;TZID=America/Kentucky/Louisville:20260202T110000
DTEND;TZID=America/Kentucky/Louisville:20260202T130000
SUMMARY:Shawnee Friends of the Library 
URL;VALUE=URI:/shawnee-friends-library-15
END:VEVENT
END:VCALENDAR