BEGIN:VCALENDAR
VERSION:2.0
PRODID:-//hacksw/handcal//NONSGML v1.0//EN
CALSCALE:GREGORIAN
BEGIN:VTIMEZONE
TZID:America/Kentucky/Louisville
BEGIN:DAYLIGHT
TZOFFSETFROM:-0600
TZNAME:MDT
TZOFFSETTO:-0600
END:DAYLIGHT
END:VTIMEZONE
DTSTAMP:20260421T044948Z
UID:69e73a2cb9fcf
BEGIN:VEVENT
LOCATION:Southwest Regional, 9725 Dixie Highway, Louisville, KY US 40272
DESCRIPTION:<p>Join chef Nathan Lamar (Proof on Main) for a cooking demonstration and conversation. Limited seating, please register at (502) 933.0029.&nbsp;</p>
DTSTART;TZID=America/Kentucky/Louisville:20260224T100000
DTEND;TZID=America/Kentucky/Louisville:20260224T120000
SUMMARY:Kitchen Conversations
URL;VALUE=URI:/kitchen-conversations-6
END:VEVENT
END:VCALENDAR