BEGIN:VCALENDAR
VERSION:2.0
PRODID:-//hacksw/handcal//NONSGML v1.0//EN
CALSCALE:GREGORIAN
BEGIN:VTIMEZONE
TZID:America/Kentucky/Louisville
BEGIN:DAYLIGHT
TZOFFSETFROM:-0600
TZNAME:MDT
TZOFFSETTO:-0600
END:DAYLIGHT
END:VTIMEZONE
DTSTAMP:20260420T044645Z
UID:69e5e7f5e80fb
BEGIN:VEVENT
DESCRIPTION:<p>Come to the Shively library for our monthly book discussion group.&nbsp;</p><p>February meeting: <em>A Raisin in the Sun</em> by Lorraine Hansberry</p>
DTSTART;TZID=America/Kentucky/Louisville:20260205T180000
DTEND;TZID=America/Kentucky/Louisville:20260205T190000
SUMMARY:Book Club: A Raisin in the Sun
URL;VALUE=URI:/book-club-raisin-sun-0
END:VEVENT
END:VCALENDAR