BEGIN:VCALENDAR
VERSION:2.0
PRODID:-//hacksw/handcal//NONSGML v1.0//EN
CALSCALE:GREGORIAN
BEGIN:VTIMEZONE
TZID:America/Kentucky/Louisville
BEGIN:DAYLIGHT
TZOFFSETFROM:-0600
TZNAME:MDT
TZOFFSETTO:-0600
END:DAYLIGHT
END:VTIMEZONE
DTSTAMP:20260420T050557Z
UID:69e5ec751780e
BEGIN:VEVENT
DESCRIPTION:<p><span style="color:black;">Join The Book Works for Voices &amp; Vibes, where middle and high school students express themselves though workshops, discussions and collaborative art projects that promote literacy, build confidence, strengthen communication skills, and connect teens through creative expression.&nbsp;</span></p>
DTSTART;TZID=America/Kentucky/Louisville:20260218T160000
DTEND;TZID=America/Kentucky/Louisville:20260218T170000
SUMMARY:Voices & Vibes with The Book Works
URL;VALUE=URI:/voices-vibes-book-works-4
END:VEVENT
END:VCALENDAR