BEGIN:VCALENDAR
VERSION:2.0
PRODID:-//hacksw/handcal//NONSGML v1.0//EN
CALSCALE:GREGORIAN
BEGIN:VTIMEZONE
TZID:America/Kentucky/Louisville
BEGIN:DAYLIGHT
TZOFFSETFROM:-0600
TZNAME:MDT
TZOFFSETTO:-0600
END:DAYLIGHT
END:VTIMEZONE
DTSTAMP:20260419T082750Z
UID:69e4ca464a8b9
BEGIN:VEVENT
DESCRIPTION:<p>Drop in any time between 10 and 11:30 AM for an opportunity to gather with frinds, meet other families, socialize, craft, and play in a casual setting. Ages 0-8.</p>
DTSTART;TZID=America/Kentucky/Louisville:20260102T100000
DTEND;TZID=America/Kentucky/Louisville:20260102T113000
SUMMARY:Hooray for Play!
URL;VALUE=URI:/hooray-play-0
END:VEVENT
END:VCALENDAR