BEGIN:VCALENDAR
VERSION:2.0
PRODID:-//hacksw/handcal//NONSGML v1.0//EN
CALSCALE:GREGORIAN
BEGIN:VTIMEZONE
TZID:America/Kentucky/Louisville
BEGIN:DAYLIGHT
TZOFFSETFROM:-0600
TZNAME:MDT
TZOFFSETTO:-0600
END:DAYLIGHT
END:VTIMEZONE
DTSTAMP:20260419T095733Z
UID:69e4df4dee34a
BEGIN:VEVENT
LOCATION:South Central Regional, 7300 Jefferson Boulevard, Louisville, KY US 40219
DESCRIPTION:<p>El Círculo en Español espera promover y fomentar el interés en la cultura hispánica. Además ofrece la oportunidad de conversar en español en un ambiente informal mientras aprendemos acerca de diversas culturas de la región iberoamericana.<span style="color:black;font-size:12.0pt;"></span></p>
DTSTART;TZID=America/Kentucky/Louisville:20260414T180000
DTEND;TZID=America/Kentucky/Louisville:20260414T190000
SUMMARY:El Círculo en Español/Spanish Circle
URL;VALUE=URI:/el-circulo-en-espanolspanish-circle-21
END:VEVENT
END:VCALENDAR