BEGIN:VCALENDAR
VERSION:2.0
PRODID:-//hacksw/handcal//NONSGML v1.0//EN
CALSCALE:GREGORIAN
BEGIN:VTIMEZONE
TZID:America/Kentucky/Louisville
BEGIN:DAYLIGHT
TZOFFSETFROM:-0600
TZNAME:MDT
TZOFFSETTO:-0600
END:DAYLIGHT
END:VTIMEZONE
DTSTAMP:20260419T095239Z
UID:69e4de276a5a3
BEGIN:VEVENT
LOCATION:Bon Air, 2816 Del Rio Pl., Louisville, KY US 40220
DESCRIPTION:<p><span style="font-family:&quot;Calibri&quot;,sans-serif;font-size:12.0pt;">Start a windowsill herb garden.&nbsp; In this workshop you will decorate a recycled container to start your seedlings in.&nbsp;Jennifer will discuss the basics of starting seeds and how to care for your indoor&nbsp;herb plants.&nbsp;Limit 15. To register, call 502-574-1795. All ages</span></p>
DTSTART;TZID=America/Kentucky/Louisville:20260407T143000
DTEND;TZID=America/Kentucky/Louisville:20260407T153000
SUMMARY:Jennifer Palmer: Windowsill Herb Garden  
URL;VALUE=URI:/jennifer-palmer-windowsill-herb-garden-2
END:VEVENT
END:VCALENDAR