BEGIN:VCALENDAR
VERSION:2.0
PRODID:-//hacksw/handcal//NONSGML v1.0//EN
CALSCALE:GREGORIAN
BEGIN:VTIMEZONE
TZID:America/Kentucky/Louisville
BEGIN:DAYLIGHT
TZOFFSETFROM:-0600
TZNAME:MDT
TZOFFSETTO:-0600
END:DAYLIGHT
END:VTIMEZONE
DTSTAMP:20260419T101218Z
UID:69e4e2c279174
BEGIN:VEVENT
LOCATION:Bon Air, 2816 Del Rio Pl., Louisville, KY US 40220
DESCRIPTION:<p style="background-color:white;"><span style="font-family:&quot;Calibri&quot;,sans-serif;font-size:12.0pt;">Join us for a special outdoor storytime in the Bon Air Library garden! Children and caregivers will enjoy stories, songs and movement designed to support early literacy and learning—surrounded by nature and fresh air.&nbsp;</span><span>&nbsp;</span><span style="background-color:white;color:#282828;font-family:&quot;Calibri&quot;,sans-serif;font-size:12.0pt;">Ages 3-6.</span></p>
DTSTART;TZID=America/Kentucky/Louisville:20260418T100000
DTEND;TZID=America/Kentucky/Louisville:20260418T104500
SUMMARY:Garden Storytime
URL;VALUE=URI:/garden-storytime-2
END:VEVENT
END:VCALENDAR