BEGIN:VCALENDAR
VERSION:2.0
PRODID:-//hacksw/handcal//NONSGML v1.0//EN
CALSCALE:GREGORIAN
BEGIN:VTIMEZONE
TZID:America/Kentucky/Louisville
BEGIN:DAYLIGHT
TZOFFSETFROM:-0600
TZNAME:MDT
TZOFFSETTO:-0600
END:DAYLIGHT
END:VTIMEZONE
DTSTAMP:20260419T095442Z
UID:69e4dea25749a
BEGIN:VEVENT
DESCRIPTION:<p>&nbsp;</p>
DTSTART;TZID=America/Kentucky/Louisville:20260407T180000
DTEND;TZID=America/Kentucky/Louisville:20260407T190000
SUMMARY:Fairdale Friends of the Library
URL;VALUE=URI:/fairdale-friends-library-1
END:VEVENT
END:VCALENDAR