BEGIN:VCALENDAR
VERSION:2.0
PRODID:-//hacksw/handcal//NONSGML v1.0//EN
CALSCALE:GREGORIAN
BEGIN:VTIMEZONE
TZID:America/Kentucky/Louisville
BEGIN:DAYLIGHT
TZOFFSETFROM:-0600
TZNAME:MDT
TZOFFSETTO:-0600
END:DAYLIGHT
END:VTIMEZONE
DTSTAMP:20260419T095707Z
UID:69e4df33af7bd
BEGIN:VEVENT
LOCATION:Southwest Regional, 9725 Dixie Highway, Louisville, KY US 40272
DESCRIPTION:<p>Join us on the second Tuesday of each month to discuss our book club pick. Call the Southwest Regional Library at 502-933-0029 for titles.</p>
DTSTART;TZID=America/Kentucky/Louisville:20260414T180000
DTEND;TZID=America/Kentucky/Louisville:20260414T190000
SUMMARY:Southwest & Sensibility Book Club
URL;VALUE=URI:/southwest-sensibility-book-club-25
END:VEVENT
END:VCALENDAR