BEGIN:VCALENDAR
VERSION:2.0
PRODID:-//hacksw/handcal//NONSGML v1.0//EN
CALSCALE:GREGORIAN
BEGIN:VTIMEZONE
TZID:America/Kentucky/Louisville
BEGIN:DAYLIGHT
TZOFFSETFROM:-0600
TZNAME:MDT
TZOFFSETTO:-0600
END:DAYLIGHT
END:VTIMEZONE
DTSTAMP:20260419T095239Z
UID:69e4de276ee06
BEGIN:VEVENT
LOCATION:Southwest Regional, 9725 Dixie Highway, Louisville, KY US 40272
DESCRIPTION:<p>Struggle to figure out what to cook on busy weeknights? This easy one pot meal comes together in about 30 minutes and is bursting with flavor. We’ll prepare a nutritious, vegetarian cherry tomato pasta, all in the same pot for minimal clean-up. Space is limited and registration is required—please call (502) 912-0029 to register.</p>
DTSTART;TZID=America/Kentucky/Louisville:20260410T100000
DTEND;TZID=America/Kentucky/Louisville:20260410T110000
SUMMARY:Easy Weeknights: One Pot Tomato Pasta 
URL;VALUE=URI:/easy-weeknights-one-pot-tomato-pasta-0
END:VEVENT
END:VCALENDAR