BEGIN:VCALENDAR
VERSION:2.0
PRODID:-//hacksw/handcal//NONSGML v1.0//EN
CALSCALE:GREGORIAN
BEGIN:VTIMEZONE
TZID:America/Kentucky/Louisville
BEGIN:DAYLIGHT
TZOFFSETFROM:-0600
TZNAME:MDT
TZOFFSETTO:-0600
END:DAYLIGHT
END:VTIMEZONE
DTSTAMP:20260419T095733Z
UID:69e4df4dbe2a9
BEGIN:VEVENT
DESCRIPTION:<p>Join us to try your hand at a new craft that can be completed in about an hour. Seasoned and non-crafters are welcome. Registration is required as space and supplies are limited. Adults register: 502-375-2051. Ages 18+</p>
DTSTART;TZID=America/Kentucky/Louisville:20260330T183000
DTEND;TZID=America/Kentucky/Louisville:20260330T193000
SUMMARY:DIY Series: Cookie Cutter Bird Feeders
URL;VALUE=URI:/diy-series-cookie-cutter-bird-feeders-0
END:VEVENT
END:VCALENDAR