BEGIN:VCALENDAR
VERSION:2.0
PRODID:-//hacksw/handcal//NONSGML v1.0//EN
CALSCALE:GREGORIAN
BEGIN:VTIMEZONE
TZID:America/Kentucky/Louisville
BEGIN:DAYLIGHT
TZOFFSETFROM:-0600
TZNAME:MDT
TZOFFSETTO:-0600
END:DAYLIGHT
END:VTIMEZONE
DTSTAMP:20260419T095600Z
UID:69e4def0ce94c
BEGIN:VEVENT
LOCATION:Fairdale, 10620 W. Manslick Rd., Louisville, KY US 40118
DESCRIPTION:<p style="background-color:white;">Drop in, grab a snack, and relax after school with simple crafts, puzzles, or board games.&nbsp; Snacks provided. Ages 6-11</p>
DTSTART;TZID=America/Kentucky/Louisville:20260416T164500
DTEND;TZID=America/Kentucky/Louisville:20260416T174500
SUMMARY:Kid Zone
URL;VALUE=URI:/kid-zone-6
END:VEVENT
END:VCALENDAR