BEGIN:VCALENDAR
VERSION:2.0
PRODID:-//hacksw/handcal//NONSGML v1.0//EN
CALSCALE:GREGORIAN
BEGIN:VTIMEZONE
TZID:America/Kentucky/Louisville
BEGIN:DAYLIGHT
TZOFFSETFROM:-0600
TZNAME:MDT
TZOFFSETTO:-0600
END:DAYLIGHT
END:VTIMEZONE
DTSTAMP:20260419T095740Z
UID:69e4df54608fb
BEGIN:VEVENT
DESCRIPTION:<p style="background-color:white;line-height:normal;margin-bottom:0in;"><span style="background-color:#FEFEFE;color:#282828;">Teens use our meeting space to hang out, play games, and enjoy other fun activities!</span><span style="color:black;"></span></p>
DTSTART;TZID=America/Kentucky/Louisville:20260330T153000
DTEND;TZID=America/Kentucky/Louisville:20260330T163000
SUMMARY:Teen Lounge
URL;VALUE=URI:/teen-lounge-116
END:VEVENT
END:VCALENDAR