BEGIN:VCALENDAR
VERSION:2.0
PRODID:-//hacksw/handcal//NONSGML v1.0//EN
CALSCALE:GREGORIAN
BEGIN:VTIMEZONE
TZID:America/Kentucky/Louisville
BEGIN:DAYLIGHT
TZOFFSETFROM:-0600
TZNAME:MDT
TZOFFSETTO:-0600
END:DAYLIGHT
END:VTIMEZONE
DTSTAMP:20260419T095837Z
UID:69e4df8d84653
BEGIN:VEVENT
DESCRIPTION:<p style="line-height:normal;"><span>Crafters assemble! Teens will work together to create a single large-scale mural out of art supplies, upcycled bottle caps, and cardboard. The finished product will be displayed in the teen area.&nbsp;</span></p>
DTSTART;TZID=America/Kentucky/Louisville:20260331T153000
DTEND;TZID=America/Kentucky/Louisville:20260331T163000
SUMMARY:Crafting Together: Bottlecap Mosaic
URL;VALUE=URI:/crafting-together-bottlecap-mosaic-3
END:VEVENT
END:VCALENDAR