BEGIN:VCALENDAR
VERSION:2.0
PRODID:-//hacksw/handcal//NONSGML v1.0//EN
CALSCALE:GREGORIAN
BEGIN:VTIMEZONE
TZID:America/Kentucky/Louisville
BEGIN:DAYLIGHT
TZOFFSETFROM:-0600
TZNAME:MDT
TZOFFSETTO:-0600
END:DAYLIGHT
END:VTIMEZONE
DTSTAMP:20260419T095157Z
UID:69e4ddfde00fe
BEGIN:VEVENT
LOCATION:Jeffersontown, 10635 Watterson Trail, Louisville, KY US 40299
DESCRIPTION:<p>Program presented by the Jeffersontown Historical Society. &nbsp;Come learn about the geography and history of the Falls of the Ohio.</p>
DTSTART;TZID=America/Kentucky/Louisville:20260406T130000
DTEND;TZID=America/Kentucky/Louisville:20260406T143000
SUMMARY:The Falls of the Ohio
URL;VALUE=URI:/falls-ohio-0
END:VEVENT
END:VCALENDAR