BEGIN:VCALENDAR
VERSION:2.0
PRODID:-//hacksw/handcal//NONSGML v1.0//EN
CALSCALE:GREGORIAN
BEGIN:VTIMEZONE
TZID:America/Kentucky/Louisville
BEGIN:DAYLIGHT
TZOFFSETFROM:-0600
TZNAME:MDT
TZOFFSETTO:-0600
END:DAYLIGHT
END:VTIMEZONE
DTSTAMP:20260419T095534Z
UID:69e4ded63ca9c
BEGIN:VEVENT
LOCATION:Southwest Regional, 9725 Dixie Highway, Louisville, KY US 40272
DESCRIPTION:<p>Join us monthly as we explore arts and crafts, watch movies, dive into STEM projects, and hang out together in our Teen Lounge. Ages 12-18.</p><p style="line-height:normal;margin-bottom:.0001pt;"><span style="background-color:white;font-family:&quot;Arial&quot;,sans-serif;font-size:12.0pt;">March &nbsp;– 4H Teen Art:&nbsp; Abstract painting</span><br><span style="background-color:white;font-family:&quot;Arial&quot;,sans-serif;font-size:12.0pt;">April &nbsp;- 4H Teen Photography:&nbsp; (Zoom with your feet)</span></p>
DTSTART;TZID=America/Kentucky/Louisville:20260406T183000
DTEND;TZID=America/Kentucky/Louisville:20260406T193000
SUMMARY:Teen Space
URL;VALUE=URI:/teen-space-67
END:VEVENT
END:VCALENDAR