BEGIN:VCALENDAR
VERSION:2.0
PRODID:-//hacksw/handcal//NONSGML v1.0//EN
CALSCALE:GREGORIAN
BEGIN:VTIMEZONE
TZID:America/Kentucky/Louisville
BEGIN:DAYLIGHT
TZOFFSETFROM:-0600
TZNAME:MDT
TZOFFSETTO:-0600
END:DAYLIGHT
END:VTIMEZONE
DTSTAMP:20260419T095204Z
UID:69e4de04086e8
BEGIN:VEVENT
LOCATION:Southwest Regional, 9725 Dixie Highway, Louisville, KY US 40272
DESCRIPTION:<p>4H for Homeschoolers is presented by 4H Youth Development/Jefferson County Cooperative Extension Office. Ages 9 – 18.<br><br>March – Awards Day, Cupcakes, and Community Service&nbsp;<br>April – Chef Salad, Herb Dressing, and Planting Seeds<br>&nbsp;</p>
DTSTART;TZID=America/Kentucky/Louisville:20260407T130000
DTEND;TZID=America/Kentucky/Louisville:20260407T140000
SUMMARY:4H for Homeschoolers
URL;VALUE=URI:/4h-homeschoolers-41
END:VEVENT
END:VCALENDAR