BEGIN:VCALENDAR
VERSION:2.0
PRODID:-//hacksw/handcal//NONSGML v1.0//EN
CALSCALE:GREGORIAN
BEGIN:VTIMEZONE
TZID:America/Kentucky/Louisville
BEGIN:DAYLIGHT
TZOFFSETFROM:-0600
TZNAME:MDT
TZOFFSETTO:-0600
END:DAYLIGHT
END:VTIMEZONE
DTSTAMP:20260419T095534Z
UID:69e4ded63e97c
BEGIN:VEVENT
LOCATION:Southwest Regional, 9725 Dixie Highway, Louisville, KY US 40272
DESCRIPTION:<p>Bring your favorite reads to discuss with the group as we dive into a different genre of books each month. Ages -12-18.</p><p><br>March- Jokes and Riddles&nbsp;<br>April - Poetry and Verse<br>&nbsp;</p>
DTSTART;TZID=America/Kentucky/Louisville:20260413T180000
DTEND;TZID=America/Kentucky/Louisville:20260413T190000
SUMMARY:Teen Book Besties
URL;VALUE=URI:/teen-book-besties-4
END:VEVENT
END:VCALENDAR