BEGIN:VCALENDAR
VERSION:2.0
PRODID:-//hacksw/handcal//NONSGML v1.0//EN
CALSCALE:GREGORIAN
BEGIN:VTIMEZONE
TZID:America/Kentucky/Louisville
BEGIN:DAYLIGHT
TZOFFSETFROM:-0600
TZNAME:MDT
TZOFFSETTO:-0600
END:DAYLIGHT
END:VTIMEZONE
DTSTAMP:20260419T095239Z
UID:69e4de276c9db
BEGIN:VEVENT
LOCATION:Western, 604 South Tenth Street, Louisville, KY US 40203
DESCRIPTION:<p>Have you ever wanted to learn to play guitar, but didn’t know where to start? We’ll go over guitar basics and learn a simple song. Limited spaces available, please call (502) 574-1779 to reserve your spot. For teens, ages 12+.&nbsp;</p>
DTSTART;TZID=America/Kentucky/Louisville:20260411T140000
DTEND;TZID=America/Kentucky/Louisville:20260411T153000
SUMMARY:Teen Guitar Jam
URL;VALUE=URI:/teen-guitar-jam-4
END:VEVENT
END:VCALENDAR