BEGIN:VCALENDAR
VERSION:2.0
PRODID:-//hacksw/handcal//NONSGML v1.0//EN
CALSCALE:GREGORIAN
BEGIN:VTIMEZONE
TZID:America/Kentucky/Louisville
BEGIN:DAYLIGHT
TZOFFSETFROM:-0600
TZNAME:MDT
TZOFFSETTO:-0600
END:DAYLIGHT
END:VTIMEZONE
DTSTAMP:20260419T095802Z
UID:69e4df6a1bb14
BEGIN:VEVENT
LOCATION:Southwest Regional, 9725 Dixie Highway, Louisville, KY US 40272
DESCRIPTION:<p>Step through the portal for a screening of A Minecraft Movie (PG) and stay to build your own world with crafts and snacks!&nbsp;<br>Space is limited; call 502-933-0029 to register. Ages 7-12.<br>&nbsp;</p>
DTSTART;TZID=America/Kentucky/Louisville:20260331T180000
DTEND;TZID=America/Kentucky/Louisville:20260331T190000
SUMMARY:Kids Only Club: Minecraft Night 
URL;VALUE=URI:/kids-only-club-minecraft-night-0
END:VEVENT
END:VCALENDAR