BEGIN:VCALENDAR
VERSION:2.0
PRODID:-//hacksw/handcal//NONSGML v1.0//EN
CALSCALE:GREGORIAN
BEGIN:VTIMEZONE
TZID:America/Kentucky/Louisville
BEGIN:DAYLIGHT
TZOFFSETFROM:-0600
TZNAME:MDT
TZOFFSETTO:-0600
END:DAYLIGHT
END:VTIMEZONE
DTSTAMP:20260419T095336Z
UID:69e4de60d2d21
BEGIN:VEVENT
LOCATION:Southwest Regional, 9725 Dixie Highway, Louisville, KY US 40272
DESCRIPTION:<p>Join UpBeat Louisville for 45 minutes of jamming fun. &nbsp;The Rhythm Kids program explores music, movement, and drumming. &nbsp;We’ll undertake traditional drumming patterns, create animal movements, and sing and dance to music from around the world. &nbsp;Through music, we’ll help children find new ways to connect mind, body, and voice and play active musical games that are both enriching and totally fun!<br>Space is limited; please call 502.933.0029 to register. Ages 4-8.<br>&nbsp;</p>
DTSTART;TZID=America/Kentucky/Louisville:20260406T110000
DTEND;TZID=America/Kentucky/Louisville:20260406T120000
SUMMARY:Rhythm Kids with UpBeat Louisville!
URL;VALUE=URI:/rhythm-kids-upbeat-louisville-0
END:VEVENT
END:VCALENDAR