BEGIN:VCALENDAR
VERSION:2.0
PRODID:-//hacksw/handcal//NONSGML v1.0//EN
CALSCALE:GREGORIAN
BEGIN:VTIMEZONE
TZID:America/Kentucky/Louisville
BEGIN:DAYLIGHT
TZOFFSETFROM:-0600
TZNAME:MDT
TZOFFSETTO:-0600
END:DAYLIGHT
END:VTIMEZONE
DTSTAMP:20260419T095733Z
UID:69e4df4d97737
BEGIN:VEVENT
LOCATION:Middletown, 12556 Shelbyville Road, Louisville, KY US 40243
DESCRIPTION:<p><span style="color:black;">Get help installing Libby App and mastering its various features. Registration is required to attend, please call 502-245-7332.</span></p>
DTSTART;TZID=America/Kentucky/Louisville:20260414T090000
DTEND;TZID=America/Kentucky/Louisville:20260414T100000
SUMMARY:Libby App Tutoring
URL;VALUE=URI:/libby-app-tutoring-27
END:VEVENT
END:VCALENDAR