BEGIN:VCALENDAR
VERSION:2.0
PRODID:-//hacksw/handcal//NONSGML v1.0//EN
CALSCALE:GREGORIAN
BEGIN:VTIMEZONE
TZID:America/Kentucky/Louisville
BEGIN:DAYLIGHT
TZOFFSETFROM:-0600
TZNAME:MDT
TZOFFSETTO:-0600
END:DAYLIGHT
END:VTIMEZONE
DTSTAMP:20260419T095442Z
UID:69e4dea25db85
BEGIN:VEVENT
LOCATION:Highlands-Shelby Park, 1250 Bardstown Rd., #4, Louisville, KY US 40204
DESCRIPTION:<p><strong>Miracle Creek</strong> by Angie Kim<br>How far will you go to protect your family? Will you keep their secrets? Ignore their lies?<br>In a small town in Virginia, a group of people know each other because they’re part of a special treatment center, a hyperbaric chamber that may cure a range of conditions from infertility to autism. But then the chamber explodes, two people die, and it’s clear the explosion wasn’t an accident.<br>&nbsp;</p>
DTSTART;TZID=America/Kentucky/Louisville:20260401T183000
DTEND;TZID=America/Kentucky/Louisville:20260401T193000
SUMMARY:Evening Book Discussion
URL;VALUE=URI:/evening-book-discussion-33
END:VEVENT
END:VCALENDAR