BEGIN:VCALENDAR
VERSION:2.0
PRODID:-//hacksw/handcal//NONSGML v1.0//EN
CALSCALE:GREGORIAN
BEGIN:VTIMEZONE
TZID:America/Kentucky/Louisville
BEGIN:DAYLIGHT
TZOFFSETFROM:-0600
TZNAME:MDT
TZOFFSETTO:-0600
END:DAYLIGHT
END:VTIMEZONE
DTSTAMP:20260419T095010Z
UID:69e4dd9212cca
BEGIN:VEVENT
LOCATION:Highlands-Shelby Park, 1250 Bardstown Rd., #4, Louisville, KY US 40204
DESCRIPTION:<p><strong>The Idaho Four: An American Tragedy</strong> by James Patterson, Vicki Ward<br>The murders of four innocent college students attending the University of Idaho left us all with so many questions. Now, after more than 300 interviews, James Patterson and prize-winning journalist Vicky Ward finally have the answers.<br>&nbsp;</p>
DTSTART;TZID=America/Kentucky/Louisville:20260407T130000
DTEND;TZID=America/Kentucky/Louisville:20260407T143000
SUMMARY:Nonfiction Book Group
URL;VALUE=URI:/nonfiction-book-group-33
END:VEVENT
END:VCALENDAR