BEGIN:VCALENDAR
VERSION:2.0
PRODID:-//hacksw/handcal//NONSGML v1.0//EN
CALSCALE:GREGORIAN
BEGIN:VTIMEZONE
TZID:America/Kentucky/Louisville
BEGIN:DAYLIGHT
TZOFFSETFROM:-0600
TZNAME:MDT
TZOFFSETTO:-0600
END:DAYLIGHT
END:VTIMEZONE
DTSTAMP:20260419T095301Z
UID:69e4de3d62c3f
BEGIN:VEVENT
LOCATION:Highlands-Shelby Park, 1250 Bardstown Rd., #4, Louisville, KY US 40204
DESCRIPTION:<p>Join us for our meeting of the Friends of the Highlands-Shelby Park Library. Call 574-1672 for virtual options.</p>
DTSTART;TZID=America/Kentucky/Louisville:20260413T183000
DTEND;TZID=America/Kentucky/Louisville:20260413T193000
SUMMARY:Friends of the Library Meeting
URL;VALUE=URI:/friends-library-meeting-51
END:VEVENT
END:VCALENDAR