BEGIN:VCALENDAR
VERSION:2.0
PRODID:-//hacksw/handcal//NONSGML v1.0//EN
CALSCALE:GREGORIAN
BEGIN:VTIMEZONE
TZID:America/Kentucky/Louisville
BEGIN:DAYLIGHT
TZOFFSETFROM:-0600
TZNAME:MDT
TZOFFSETTO:-0600
END:DAYLIGHT
END:VTIMEZONE
DTSTAMP:20260419T095204Z
UID:69e4de041a693
BEGIN:VEVENT
LOCATION:Highlands-Shelby Park, 1250 Bardstown Rd., #4, Louisville, KY US 40204
DESCRIPTION:<p>Meet the authors in our community. Local authors, Leslie Moise, Lynn Slaughter, Sarah Landenwich, and Kelly Hill, share selections from their works along with their writing and publishing experiences. To be followed by an audience Q &amp; A session.&nbsp;</p>
DTSTART;TZID=America/Kentucky/Louisville:20260409T183000
DTEND;TZID=America/Kentucky/Louisville:20260409T193000
SUMMARY:Local Authors Spotlight
URL;VALUE=URI:/local-authors-spotlight-0
END:VEVENT
END:VCALENDAR