BEGIN:VCALENDAR
VERSION:2.0
PRODID:-//hacksw/handcal//NONSGML v1.0//EN
CALSCALE:GREGORIAN
BEGIN:VTIMEZONE
TZID:America/Kentucky/Louisville
BEGIN:DAYLIGHT
TZOFFSETFROM:-0600
TZNAME:MDT
TZOFFSETTO:-0600
END:DAYLIGHT
END:VTIMEZONE
DTSTAMP:20260419T095513Z
UID:69e4dec13833a
BEGIN:VEVENT
DESCRIPTION:<p>Learn a super easy, 3-ingredient Oreo Ball recipe and have fun decorating your own creations!</p>
DTSTART;TZID=America/Kentucky/Louisville:20260402T153000
DTEND;TZID=America/Kentucky/Louisville:20260402T163000
SUMMARY:No Bake Oreo Balls 
URL;VALUE=URI:/no-bake-oreo-balls-0
END:VEVENT
END:VCALENDAR